BEGIN:VCALENDAR
VERSION:2.0
PRODID:-//ORT Jet - ECPv6.15.20//NONSGML v1.0//EN
CALSCALE:GREGORIAN
METHOD:PUBLISH
X-WR-CALNAME:ORT Jet
X-ORIGINAL-URL:https://www.ortjet.org.za
X-WR-CALDESC:Events for ORT Jet
REFRESH-INTERVAL;VALUE=DURATION:PT1H
X-Robots-Tag:noindex
X-PUBLISHED-TTL:PT1H
BEGIN:VTIMEZONE
TZID:Africa/Johannesburg
BEGIN:STANDARD
TZOFFSETFROM:+0200
TZOFFSETTO:+0200
TZNAME:SAST
DTSTART:20250101T000000
END:STANDARD
END:VTIMEZONE
BEGIN:VEVENT
DTSTART;TZID=Africa/Johannesburg:20260303T093000
DTEND;TZID=Africa/Johannesburg:20260303T223000
DTSTAMP:20260422T160356
CREATED:20260211T115343Z
LAST-MODIFIED:20260211T115343Z
UID:13374-1772530200-1772577000@www.ortjet.org.za
SUMMARY:Business Bootcamp - Your Game Plan To Entrepreneurial Success With Larry Hodes
DESCRIPTION:Book Here
URL:https://www.ortjet.org.za/event/business-bootcamp-your-game-plan-to-entrepreneurial-success-with-larry-hodes/
END:VEVENT
BEGIN:VEVENT
DTSTART;TZID=Africa/Johannesburg:20260305T093000
DTEND;TZID=Africa/Johannesburg:20260305T103000
DTSTAMP:20260422T160356
CREATED:20260211T115556Z
LAST-MODIFIED:20260211T115556Z
UID:13376-1772703000-1772706600@www.ortjet.org.za
SUMMARY:Business Bootcamp - Personal Branding With Lori Milner
DESCRIPTION:Book Here
URL:https://www.ortjet.org.za/event/business-bootcamp-personal-branding-with-lori-milner/
END:VEVENT
BEGIN:VEVENT
DTSTART;TZID=Africa/Johannesburg:20260310T093000
DTEND;TZID=Africa/Johannesburg:20260310T103000
DTSTAMP:20260422T160356
CREATED:20260211T115724Z
LAST-MODIFIED:20260211T115724Z
UID:13378-1773135000-1773138600@www.ortjet.org.za
SUMMARY:Business Bootcamp -Finance With David Zidel
DESCRIPTION:Book Here
URL:https://www.ortjet.org.za/event/business-bootcamp-finance-with-david-zidel/
END:VEVENT
BEGIN:VEVENT
DTSTART;TZID=Africa/Johannesburg:20260319T093000
DTEND;TZID=Africa/Johannesburg:20260319T103000
DTSTAMP:20260422T160356
CREATED:20260211T115905Z
LAST-MODIFIED:20260211T115905Z
UID:13380-1773912600-1773916200@www.ortjet.org.za
SUMMARY:Business Bootcamp - Time Management With Lori Milner
DESCRIPTION:Book Here
URL:https://www.ortjet.org.za/event/business-bootcamp-time-management-with-lori-milner-2/
END:VEVENT
BEGIN:VEVENT
DTSTART;TZID=Africa/Johannesburg:20260324T093000
DTEND;TZID=Africa/Johannesburg:20260324T103000
DTSTAMP:20260422T160356
CREATED:20260211T120038Z
LAST-MODIFIED:20260211T120038Z
UID:13382-1774344600-1774348200@www.ortjet.org.za
SUMMARY:Business Bootcamp - Strategy With Ian Mann
DESCRIPTION:Book Here
URL:https://www.ortjet.org.za/event/business-bootcamp-strategy-with-ian-mann/
END:VEVENT
BEGIN:VEVENT
DTSTART;TZID=Africa/Johannesburg:20260326T093000
DTEND;TZID=Africa/Johannesburg:20260326T103000
DTSTAMP:20260422T160356
CREATED:20260211T120202Z
LAST-MODIFIED:20260211T120202Z
UID:13384-1774517400-1774521000@www.ortjet.org.za
SUMMARY:Business Bootcamp - The Entrepreneur’s Code To Productivity With Larry Hodes
DESCRIPTION:Book Here
URL:https://www.ortjet.org.za/event/business-bootcamp-the-entrepreneurs-code-to-productivity-with-larry-hodes/
END:VEVENT
BEGIN:VEVENT
DTSTART;TZID=Africa/Johannesburg:20260331T093000
DTEND;TZID=Africa/Johannesburg:20260331T103000
DTSTAMP:20260422T160356
CREATED:20260211T120351Z
LAST-MODIFIED:20260211T120351Z
UID:13388-1774949400-1774953000@www.ortjet.org.za
SUMMARY:Business Bootcamp - Business Planning With Amanda Blankfield-Koseff
DESCRIPTION:Book Here
URL:https://www.ortjet.org.za/event/business-bootcamp-business-planning-with-amanda-blankfield-koseff/
END:VEVENT
END:VCALENDAR