BEGIN:VCALENDAR
VERSION:2.0
PRODID:-//ORT Jet - ECPv6.15.20//NONSGML v1.0//EN
CALSCALE:GREGORIAN
METHOD:PUBLISH
X-WR-CALNAME:ORT Jet
X-ORIGINAL-URL:https://www.ortjet.org.za
X-WR-CALDESC:Events for ORT Jet
REFRESH-INTERVAL;VALUE=DURATION:PT1H
X-Robots-Tag:noindex
X-PUBLISHED-TTL:PT1H
BEGIN:VTIMEZONE
TZID:Africa/Johannesburg
BEGIN:STANDARD
TZOFFSETFROM:+0200
TZOFFSETTO:+0200
TZNAME:SAST
DTSTART:20250101T000000
END:STANDARD
END:VTIMEZONE
BEGIN:VEVENT
DTSTART;TZID=Africa/Johannesburg:20260226T093000
DTEND;TZID=Africa/Johannesburg:20260226T103000
DTSTAMP:20260424T101700
CREATED:20260211T115142Z
LAST-MODIFIED:20260211T115142Z
UID:13372-1772098200-1772101800@www.ortjet.org.za
SUMMARY:Business Bootcamp - The Grow Strategy With Larry Hodes
DESCRIPTION:Book Here
URL:https://www.ortjet.org.za/event/business-bootcamp-the-grow-strategy-with-larry-hodes/
END:VEVENT
END:VCALENDAR