BEGIN:VCALENDAR
VERSION:2.0
PRODID:-//ORT Jet - ECPv6.15.20//NONSGML v1.0//EN
CALSCALE:GREGORIAN
METHOD:PUBLISH
X-WR-CALNAME:ORT Jet
X-ORIGINAL-URL:https://www.ortjet.org.za
X-WR-CALDESC:Events for ORT Jet
REFRESH-INTERVAL;VALUE=DURATION:PT1H
X-Robots-Tag:noindex
X-PUBLISHED-TTL:PT1H
BEGIN:VTIMEZONE
TZID:Africa/Johannesburg
BEGIN:STANDARD
TZOFFSETFROM:+0200
TZOFFSETTO:+0200
TZNAME:SAST
DTSTART:20230101T000000
END:STANDARD
END:VTIMEZONE
BEGIN:VEVENT
DTSTART;TZID=Africa/Johannesburg:20250225T090000
DTEND;TZID=Africa/Johannesburg:20250225T100000
DTSTAMP:20260425T000746
CREATED:20250121T071242Z
LAST-MODIFIED:20250128T084454Z
UID:12939-1740474000-1740477600@www.ortjet.org.za
SUMMARY:Excel Part 3 with Dan Stillerman and Avi Levy
DESCRIPTION:Book here
URL:https://www.ortjet.org.za/event/excel-part-3-with-dan-stillerman-and-avi-levy/
END:VEVENT
BEGIN:VEVENT
DTSTART;TZID=Africa/Johannesburg:20250224T100000
DTEND;TZID=Africa/Johannesburg:20250224T110000
DTSTAMP:20260425T000746
CREATED:20250116T054813Z
LAST-MODIFIED:20250116T054813Z
UID:12920-1740391200-1740394800@www.ortjet.org.za
SUMMARY:In The Boardroom with Michael Lewis
DESCRIPTION:Book Now
URL:https://www.ortjet.org.za/event/in-the-boardroom-with-michael-lewis/
END:VEVENT
BEGIN:VEVENT
DTSTART;TZID=Africa/Johannesburg:20250220T180000
DTEND;TZID=Africa/Johannesburg:20250220T190000
DTSTAMP:20260425T000746
CREATED:20250121T071838Z
LAST-MODIFIED:20250121T071838Z
UID:12945-1740074400-1740078000@www.ortjet.org.za
SUMMARY:101.9 Chai FM - ORT Jet Business Show Hosted By David Zidel
DESCRIPTION:
URL:https://www.ortjet.org.za/event/101-9-chai-fm-ort-jet-business-show-hosted-by-david-zidel-6/
END:VEVENT
BEGIN:VEVENT
DTSTART;TZID=Africa/Johannesburg:20250220T090000
DTEND;TZID=Africa/Johannesburg:20250220T110000
DTSTAMP:20260425T000746
CREATED:20250207T110301Z
LAST-MODIFIED:20250207T110301Z
UID:12988-1740042000-1740049200@www.ortjet.org.za
SUMMARY:Love To Connect: Business Networking Breakfast
DESCRIPTION:
URL:https://www.ortjet.org.za/event/love-to-connect-business-networking-breakfast/
END:VEVENT
BEGIN:VEVENT
DTSTART;TZID=Africa/Johannesburg:20250219T090000
DTEND;TZID=Africa/Johannesburg:20250219T100000
DTSTAMP:20260425T000746
CREATED:20250116T054558Z
LAST-MODIFIED:20250205T062537Z
UID:12918-1739955600-1739959200@www.ortjet.org.za
SUMMARY:How To Build Your Marketing Suit Of Armor with Tilly Davis [Part 1]
DESCRIPTION:Book Now
URL:https://www.ortjet.org.za/event/how-to-build-your-marketing-suit-of-armor-with-tilly-davis-part-1/
END:VEVENT
BEGIN:VEVENT
DTSTART;TZID=Africa/Johannesburg:20250218T090000
DTEND;TZID=Africa/Johannesburg:20250218T100000
DTSTAMP:20260425T000746
CREATED:20250121T071137Z
LAST-MODIFIED:20250128T084356Z
UID:12937-1739869200-1739872800@www.ortjet.org.za
SUMMARY:Excel Part 2 with Dan Stillerman and Avi Levy
DESCRIPTION:Book here
URL:https://www.ortjet.org.za/event/excel-part-2-with-dan-stillerman-and-avi-levy/
END:VEVENT
BEGIN:VEVENT
DTSTART;TZID=Africa/Johannesburg:20250213T180000
DTEND;TZID=Africa/Johannesburg:20250213T190000
DTSTAMP:20260425T000746
CREATED:20250121T071653Z
LAST-MODIFIED:20250121T071653Z
UID:12943-1739469600-1739473200@www.ortjet.org.za
SUMMARY:101.9 Chai FM - ORT Jet Business Show Hosted By David Zidel
DESCRIPTION:
URL:https://www.ortjet.org.za/event/101-9-chai-fm-ort-jet-business-show-hosted-by-david-zidel-5/
END:VEVENT
BEGIN:VEVENT
DTSTART;TZID=Africa/Johannesburg:20250211T090000
DTEND;TZID=Africa/Johannesburg:20250211T100000
DTSTAMP:20260425T000746
CREATED:20250121T071042Z
LAST-MODIFIED:20250128T084304Z
UID:12935-1739264400-1739268000@www.ortjet.org.za
SUMMARY:Excel Part 1 with Dan Stillerman and Avi Levy
DESCRIPTION:Book now
URL:https://www.ortjet.org.za/event/excel-part-1-with-dan-stillerman-and-avi-levy/
END:VEVENT
BEGIN:VEVENT
DTSTART;TZID=Africa/Johannesburg:20250206T180000
DTEND;TZID=Africa/Johannesburg:20250206T190000
DTSTAMP:20260425T000746
CREATED:20250121T071453Z
LAST-MODIFIED:20250121T071453Z
UID:12941-1738864800-1738868400@www.ortjet.org.za
SUMMARY:101.9 Chai FM - ORT Jet Business Show Hosted By David Zidel
DESCRIPTION:
URL:https://www.ortjet.org.za/event/101-9-chai-fm-ort-jet-business-show-hosted-by-david-zidel-4/
END:VEVENT
BEGIN:VEVENT
DTSTART;TZID=Africa/Johannesburg:20250130T180000
DTEND;TZID=Africa/Johannesburg:20250130T190000
DTSTAMP:20260425T000746
CREATED:20250116T055919Z
LAST-MODIFIED:20250116T055919Z
UID:12932-1738260000-1738263600@www.ortjet.org.za
SUMMARY:101.9 Chai FM - ORT Jet Business Show Hosted By David Zidel
DESCRIPTION:
URL:https://www.ortjet.org.za/event/101-9-chai-fm-ort-jet-business-show-hosted-by-david-zidel-3/
END:VEVENT
BEGIN:VEVENT
DTSTART;TZID=Africa/Johannesburg:20250123T180000
DTEND;TZID=Africa/Johannesburg:20250123T190000
DTSTAMP:20260425T000746
CREATED:20250116T055839Z
LAST-MODIFIED:20250116T055839Z
UID:12930-1737655200-1737658800@www.ortjet.org.za
SUMMARY:101.9 Chai FM - ORT Jet Business Show Hosted By David Zidel
DESCRIPTION:
URL:https://www.ortjet.org.za/event/101-9-chai-fm-ort-jet-business-show-hosted-by-david-zidel-2/
END:VEVENT
BEGIN:VEVENT
DTSTART;TZID=Africa/Johannesburg:20250122T090000
DTEND;TZID=Africa/Johannesburg:20250122T100000
DTSTAMP:20260425T000746
CREATED:20250108T130213Z
LAST-MODIFIED:20250110T100511Z
UID:12907-1737536400-1737540000@www.ortjet.org.za
SUMMARY:Change VS Transition with Sonja Blignaut
DESCRIPTION:BOOK
URL:https://www.ortjet.org.za/event/change-vs-transition-with-sonja-blignaut/
LOCATION:In-Person
END:VEVENT
BEGIN:VEVENT
DTSTART;TZID=Africa/Johannesburg:20250116T180000
DTEND;TZID=Africa/Johannesburg:20250116T190000
DTSTAMP:20260425T000746
CREATED:20250116T055717Z
LAST-MODIFIED:20250116T055717Z
UID:12928-1737050400-1737054000@www.ortjet.org.za
SUMMARY:101.9 Chai FM - ORT Jet Business Show Hosted By David Zidel
DESCRIPTION:
URL:https://www.ortjet.org.za/event/101-9-chai-fm-ort-jet-business-show-hosted-by-david-zidel/
END:VEVENT
BEGIN:VEVENT
DTSTART;TZID=Africa/Johannesburg:20241031T160000
DTEND;TZID=Africa/Johannesburg:20241031T193000
DTSTAMP:20260425T000746
CREATED:20240826T083618Z
LAST-MODIFIED:20240826T083618Z
UID:12771-1730390400-1730403000@www.ortjet.org.za
SUMMARY:Mentor Madness
DESCRIPTION:By Invite Only! \nMore Information Coming!
URL:https://www.ortjet.org.za/event/mentor-madness-2/
CATEGORIES:October
END:VEVENT
BEGIN:VEVENT
DTSTART;TZID=Africa/Johannesburg:20241028T090000
DTEND;TZID=Africa/Johannesburg:20241028T100000
DTSTAMP:20260425T000746
CREATED:20240830T104406Z
LAST-MODIFIED:20241205T113354Z
UID:12788-1730106000-1730109600@www.ortjet.org.za
SUMMARY:In The Boardroom with Phillip Krawitz
DESCRIPTION:
URL:https://www.ortjet.org.za/event/in-the-boardroom-with-phillip-krawitz-2/
LOCATION:In-Person
CATEGORIES:In The Boardroom
END:VEVENT
BEGIN:VEVENT
DTSTART;TZID=Africa/Johannesburg:20241028T090000
DTEND;TZID=Africa/Johannesburg:20241028T100000
DTSTAMP:20260425T000746
CREATED:20240826T083208Z
LAST-MODIFIED:20240826T083208Z
UID:12769-1730106000-1730109600@www.ortjet.org.za
SUMMARY:In The Boardroom with Phillip Krawitz
DESCRIPTION:Exclusive to Mentors.  \nMore information coming!
URL:https://www.ortjet.org.za/event/in-the-boardroom-with-phillip-krawitz/
LOCATION:In-Person
CATEGORIES:In The Boardroom
END:VEVENT
BEGIN:VEVENT
DTSTART;TZID=Africa/Johannesburg:20241022T150000
DTEND;TZID=Africa/Johannesburg:20241022T160000
DTSTAMP:20260425T000746
CREATED:20240826T082419Z
LAST-MODIFIED:20240826T082419Z
UID:12767-1729609200-1729612800@www.ortjet.org.za
SUMMARY:Building Relationships Your Competitors Can't Steal with Stan Katz and Chris Lytle
DESCRIPTION:
URL:https://www.ortjet.org.za/event/building-relationships-your-competitors-cant-steal-with-stan-katz-and-chris-lytle/
LOCATION:Webinar
CATEGORIES:October
END:VEVENT
BEGIN:VEVENT
DTSTART;TZID=Africa/Johannesburg:20240930T090000
DTEND;TZID=Africa/Johannesburg:20240930T103000
DTSTAMP:20260425T000746
CREATED:20240816T081111Z
LAST-MODIFIED:20240816T081111Z
UID:12754-1727686800-1727692200@www.ortjet.org.za
SUMMARY:In The Boardroom with Stan Katz
DESCRIPTION:More Information coming soon!
URL:https://www.ortjet.org.za/event/in-the-boardroom-with-stan-katz/
LOCATION:In-Person
CATEGORIES:In The Boardroom
END:VEVENT
BEGIN:VEVENT
DTSTART;TZID=Africa/Johannesburg:20240926T090000
DTEND;TZID=Africa/Johannesburg:20240926T100000
DTSTAMP:20260425T000746
CREATED:20240801T104253Z
LAST-MODIFIED:20240801T104253Z
UID:12728-1727341200-1727344800@www.ortjet.org.za
SUMMARY:Time Management with Lori Milner
DESCRIPTION:
URL:https://www.ortjet.org.za/event/time-management-with-lori-milner/
LOCATION:In-Person
CATEGORIES:Business Bootcamp
END:VEVENT
BEGIN:VEVENT
DTSTART;TZID=Africa/Johannesburg:20240925T100000
DTEND;TZID=Africa/Johannesburg:20240925T110000
DTSTAMP:20260425T000746
CREATED:20240801T104121Z
LAST-MODIFIED:20240801T104140Z
UID:12726-1727258400-1727262000@www.ortjet.org.za
SUMMARY:ORT SA Career Hub: ChatGPT for Beginners with Ariellah Rosenberg
DESCRIPTION:
URL:https://www.ortjet.org.za/event/ort-sa-career-hub-chatgpt-for-beginners-with-ariellah-rosenberg/
LOCATION:Webinar
CATEGORIES:Career Hub
END:VEVENT
BEGIN:VEVENT
DTSTART;TZID=Africa/Johannesburg:20240917T130000
DTEND;TZID=Africa/Johannesburg:20240917T140000
DTSTAMP:20260425T000746
CREATED:20240816T081414Z
LAST-MODIFIED:20240816T081414Z
UID:12757-1726578000-1726581600@www.ortjet.org.za
SUMMARY:Goal Setting with Dina Kramer
DESCRIPTION:
URL:https://www.ortjet.org.za/event/goal-setting-with-dina-kramer/
LOCATION:Webinar
CATEGORIES:Business Bootcamp
END:VEVENT
BEGIN:VEVENT
DTSTART;TZID=Africa/Johannesburg:20240911T090000
DTEND;TZID=Africa/Johannesburg:20240911T100000
DTSTAMP:20260425T000746
CREATED:20240801T103814Z
LAST-MODIFIED:20240801T104431Z
UID:12722-1726045200-1726048800@www.ortjet.org.za
SUMMARY:Business Scaling for Success with Allon Raiz
DESCRIPTION:
URL:https://www.ortjet.org.za/event/business-scaling-for-success-with-allon-raiz/
LOCATION:In-Person
CATEGORIES:Business Bootcamp
END:VEVENT
BEGIN:VEVENT
DTSTART;TZID=Africa/Johannesburg:20240904T090000
DTEND;TZID=Africa/Johannesburg:20240904T100000
DTSTAMP:20260425T000746
CREATED:20240801T103616Z
LAST-MODIFIED:20240801T104944Z
UID:12720-1725440400-1725444000@www.ortjet.org.za
SUMMARY:Leadership with Clive Butkow
DESCRIPTION:
URL:https://www.ortjet.org.za/event/leadership-with-clive-butkow/
LOCATION:In-Person
CATEGORIES:Business Bootcamp
END:VEVENT
BEGIN:VEVENT
DTSTART;TZID=Africa/Johannesburg:20240903T130000
DTEND;TZID=Africa/Johannesburg:20240903T140000
DTSTAMP:20260425T000746
CREATED:20240801T103452Z
LAST-MODIFIED:20240823T075223Z
UID:12718-1725368400-1725372000@www.ortjet.org.za
SUMMARY:Strategic Planning with Amanda Blankfield-Koseff
DESCRIPTION:Strategic Planning for Impactful Change with Amanda Blankfield-Koseff \nJoin us for a webinar on Strategic Planning with Amanda Blankfield Koseff\, the visionary founder and CEO of The Youth Citizens Action Programme and CEO of Empowervate. Amanda will help you understand the importance of strategic planning in project management and how to measure the impact of your projects for sustainable growth. Learn the practical tools and skills necessary for strategic planning. \nDate: 3rd September\, 2024\nTime: 1:00 PM – 2:00 PM\nEvent Type: Online Webinar\nLink to register: https://us02web.zoom.us/j/87603343197 \n 
URL:https://www.ortjet.org.za/event/strategic-planning-with-amanda-blankfield-koseff/
LOCATION:Webinar
CATEGORIES:Business Bootcamp
END:VEVENT
BEGIN:VEVENT
DTSTART;TZID=Africa/Johannesburg:20240829T130000
DTEND;TZID=Africa/Johannesburg:20240829T140000
DTSTAMP:20260425T000746
CREATED:20240711T103337Z
LAST-MODIFIED:20240816T071520Z
UID:12671-1724936400-1724940000@www.ortjet.org.za
SUMMARY:Cyber Security with Peter Botha
DESCRIPTION:
URL:https://www.ortjet.org.za/event/cyber-security-witg-peter-botha/
LOCATION:Webinar
CATEGORIES:Business Bootcamp
END:VEVENT
BEGIN:VEVENT
DTSTART;TZID=Africa/Johannesburg:20240828T090000
DTEND;TZID=Africa/Johannesburg:20240828T100000
DTSTAMP:20260425T000746
CREATED:20240826T114344Z
LAST-MODIFIED:20240826T114344Z
UID:12778-1724835600-1724839200@www.ortjet.org.za
SUMMARY:Personal Branding with Lori Milner
DESCRIPTION:𝐓𝐡𝐞 𝐀𝐫𝐭 𝐨𝐟 𝐏𝐞𝐫𝐬𝐨𝐧𝐚𝐥 𝐁𝐫𝐚𝐧𝐝𝐢𝐧𝐠 𝐰𝐢𝐭𝐡 𝐋𝐨𝐫𝐢 𝐌𝐢𝐥𝐧𝐞𝐫\nEnhance your professional image and gain clarity on your goals. Join us for a Personal Branding workshop with Lori Milner\, an experienced life coach and self-leadership expert with extensive experience in guiding individuals and organizations to achieve their full potential.\nUnlock your full potential through personal branding.
URL:https://www.ortjet.org.za/event/personal-branding-with-lori-milner/
LOCATION:Webinar
CATEGORIES:Business Bootcamp
END:VEVENT
BEGIN:VEVENT
DTSTART;TZID=Africa/Johannesburg:20240827T130000
DTEND;TZID=Africa/Johannesburg:20240827T140000
DTSTAMP:20260425T000746
CREATED:20240711T102537Z
LAST-MODIFIED:20240801T103149Z
UID:12667-1724763600-1724767200@www.ortjet.org.za
SUMMARY:Legal and Compliance with Ian Jacobsberg
DESCRIPTION:In the fast-paced world of business\, staying on top of legal and compliance requirements is crucial for success. Whether you’re starting a new venture or scaling your small business to the next level\, ensuring that all legal compliance requirements and loopholes are thoroughly addressed is essential. \nThis bootcamp will tackle key issues you need to consider\, including understanding the pros and cons of different business structures to make informed decisions\, learning how to safeguard your brand and intellectual property\, discovering the must-have agreements that protect your business interests\, and gaining insights into the legalities of hiring and managing employees. \nDon’t miss this opportunity to secure your business’s future and stay compliant in a rapidly changing market. You’ll receive expert guidance on legal and compliance issues\, practical insights to safeguard your business\, and strategies to avoid costly legal pitfalls. \nEnroll today and take the first step towards a legally sound and successful business. \nDate: 27th August\, 2024 \nTime: 1:00 PM – 2:00 PM \nEvent Type: Online Webinar \nLink to register: https://us02web.zoom.us/j/87199638641 \n 
URL:https://www.ortjet.org.za/event/legal-and-compliance-with-ian-jacobsberg/
LOCATION:Webinar
CATEGORIES:Business Bootcamp
END:VEVENT
BEGIN:VEVENT
DTSTART;TZID=Africa/Johannesburg:20240820T130000
DTEND;TZID=Africa/Johannesburg:20240820T140000
DTSTAMP:20260425T000746
CREATED:20240711T101856Z
LAST-MODIFIED:20240801T102630Z
UID:12665-1724158800-1724162400@www.ortjet.org.za
SUMMARY:Using TakeAlot As Your Sales Platform with Errol Hurwitz
DESCRIPTION:The E-Commerce industry is fast growing in today’s world and South Africa is not left behind in this trend.So the question is: Can anyone sell online? The answer is\, “Yes”. Now the time is easier than ever. Tet educated about how you can succeed and became the “A New Breed Of Entrepreneur” \nTakealot\, South Africa’s largest e-commerce platform\, draws 10 million visitors each month. In 2021\, it generated R13 billion in revenue\, with third-party marketplace sales making up 52% of total GMV. Unlike traditional retailers\, Takealot’s marketplace allows any approved seller to list products\, opening a vast opportunity for sellers. \nIn 2019\, 36% of Takealot’s R5 billion revenue was from marketplace sellers. By 2021\, this had surged to represent 52% of all sales\, equating to a R6-7 billion market for marketplace sellers. Don’t miss out on leveraging this platform to reach millions of potential customers. \nDate: 20th August\, 2024 \nTime: 1:00 PM – 2:00 PM \nEvent Type: Online Webinar \nLink to register: https://us02web.zoom.us/j/89636011900 \n 
URL:https://www.ortjet.org.za/event/e-commerce-with-michael-harf/
LOCATION:Webinar
CATEGORIES:Business Bootcamp
END:VEVENT
BEGIN:VEVENT
DTSTART;TZID=Africa/Johannesburg:20240819T120000
DTEND;TZID=Africa/Johannesburg:20240819T130000
DTSTAMP:20260425T000746
CREATED:20240711T101038Z
LAST-MODIFIED:20240801T101919Z
UID:12663-1724068800-1724072400@www.ortjet.org.za
SUMMARY:Finance with David Zidel
DESCRIPTION:David Zidel is an accomplished motivational speaker with extensive experience in the education management industry. With skills in finance\, entrepreneurship\, business coaching\, and behavioural economics\, David leverages his MBA in finance to empower professionals and businesses. He is a respected author of two influential books: “Basic Business Calculations\,” which has sold over 21\,000 copies in South Africa\, and “Life On The Run – 18 Steps to Success\,” drawing from his experiences running two Comrades Marathons. David is a mentor and facilitator for ORT Jet\, renowned for his practical and insightful approach to business acumen and financial decision-making. \nIn the workshop\, you will learn to overcome your fear of numbers\, master key financial statements\, make informed decisions and improve business acumen. David approach is straightforward and effective. You will achieve results through practical application and learn to focus on Business not Busyness. Lear to avoid impulsive choices and plan for long-term profitability. \nDate: 19th August\, 2024 \nTime: 12:00 PM – 1:00 PM \nEvent Type: In-Person Workshop \nEmail admin@ortjet.org.za to book
URL:https://www.ortjet.org.za/event/finance-with-david-zidel/
LOCATION:In-Person
CATEGORIES:Business Bootcamp
END:VEVENT
BEGIN:VEVENT
DTSTART;TZID=Africa/Johannesburg:20240818T080000
DTEND;TZID=Africa/Johannesburg:20240818T180000
DTSTAMP:20260425T000746
CREATED:20240711T100836Z
LAST-MODIFIED:20240711T100836Z
UID:12660-1723968000-1724004000@www.ortjet.org.za
SUMMARY:Sasfin Wealth Padel TournameNt in Partnership with ORT SA
DESCRIPTION:Partnering with ORT SA means supporting SME growth! With your help\, we provide mentorship\, training\, and networking to small businesses through the ORT Jet programme. Over 19 years\, we’ve assisted over 3\,000 businesses\, creating a positive impact on families and the economy. With SA’s unemployment at 32.9%\, your support is crucial.\n\n\nJoin us on Sunday\, August 18th\, for a fun-filled family day! Enjoy activities for kids\, time with our physiotherapy team\, virtual massages\, and a team tournament with prizes. Indulge in great food and drinks. Balls and rackets included. See you there!\n\nWhere: 10by20 Padel Courts\, Killarney Country Club\n\n\nTime: 8:00am – 6:00pm\nDate: 18th August 2024\nKids: Entertainment time table to be confirmed\nCost: R5000 per Padel Team of 2\n\n\n\nTo book Your Place: Scan the QR code\nRegister: On the Playtomic app (on your mobile)\nPay: On the Playtomic app\n\n\nAlternative: Should you not want to go through the app please contact Helene to register:\nhelene@ortsa.org.za\n082 785 5692
URL:https://www.ortjet.org.za/event/sasfin-wealth-padel-tournament-in-partnership-with-ort-sa/
LOCATION:killarney country club
END:VEVENT
END:VCALENDAR