BEGIN:VCALENDAR
VERSION:2.0
PRODID:-//ORT Jet - ECPv6.15.20//NONSGML v1.0//EN
CALSCALE:GREGORIAN
METHOD:PUBLISH
X-WR-CALNAME:ORT Jet
X-ORIGINAL-URL:https://www.ortjet.org.za
X-WR-CALDESC:Events for ORT Jet
REFRESH-INTERVAL;VALUE=DURATION:PT1H
X-Robots-Tag:noindex
X-PUBLISHED-TTL:PT1H
BEGIN:VTIMEZONE
TZID:Africa/Johannesburg
BEGIN:STANDARD
TZOFFSETFROM:+0200
TZOFFSETTO:+0200
TZNAME:SAST
DTSTART:20240101T000000
END:STANDARD
END:VTIMEZONE
BEGIN:VEVENT
DTSTART;VALUE=DATE:20250923
DTEND;VALUE=DATE:20250925
DTSTAMP:20260424T150308
CREATED:20250729T123133Z
LAST-MODIFIED:20250729T123646Z
UID:13220-1758585600-1758758399@www.ortjet.org.za
SUMMARY:Religious Holidays + Heritage Day
DESCRIPTION:
URL:https://www.ortjet.org.za/event/religious-holidays-heritage-day/
END:VEVENT
BEGIN:VEVENT
DTSTART;TZID=Africa/Johannesburg:20250831T080000
DTEND;TZID=Africa/Johannesburg:20250831T130000
DTSTAMP:20260424T150308
CREATED:20250729T122954Z
LAST-MODIFIED:20250729T122954Z
UID:13218-1756627200-1756645200@www.ortjet.org.za
SUMMARY:ORT SA Padel Fundraiser
DESCRIPTION:Join us
URL:https://www.ortjet.org.za/event/ort-sa-padel-fundraiser/
END:VEVENT
BEGIN:VEVENT
DTSTART;TZID=Africa/Johannesburg:20250828T093000
DTEND;TZID=Africa/Johannesburg:20250828T223000
DTSTAMP:20260424T150308
CREATED:20250716T103704Z
LAST-MODIFIED:20250716T103704Z
UID:13206-1756373400-1756420200@www.ortjet.org.za
SUMMARY:Business Bootcamp: Leadership with Janet Goldblatt
DESCRIPTION:Book Now
URL:https://www.ortjet.org.za/event/business-bootcamp-leadership-with-janet-goldblatt/
END:VEVENT
BEGIN:VEVENT
DTSTART;TZID=Africa/Johannesburg:20250826T093000
DTEND;TZID=Africa/Johannesburg:20250826T103000
DTSTAMP:20260424T150308
CREATED:20250731T103641Z
LAST-MODIFIED:20250731T103641Z
UID:13227-1756200600-1756204200@www.ortjet.org.za
SUMMARY:Business Bootcamp: Strategy that works with Ian Mann
DESCRIPTION:Book Now
URL:https://www.ortjet.org.za/event/business-bootcamp-strategy-that-works-with-ian-mann-2/
END:VEVENT
BEGIN:VEVENT
DTSTART;TZID=Africa/Johannesburg:20250819T093000
DTEND;TZID=Africa/Johannesburg:20250819T223000
DTSTAMP:20260424T150308
CREATED:20250716T103142Z
LAST-MODIFIED:20250716T103142Z
UID:13202-1755595800-1755642600@www.ortjet.org.za
SUMMARY:Business Bootcamp: Time Management with Lori Milner
DESCRIPTION:Book Now
URL:https://www.ortjet.org.za/event/business-bootcamp-time-management-with-lori-milner/
END:VEVENT
BEGIN:VEVENT
DTSTART;TZID=Africa/Johannesburg:20250814T093000
DTEND;TZID=Africa/Johannesburg:20250814T223000
DTSTAMP:20260424T150308
CREATED:20250716T103433Z
LAST-MODIFIED:20250729T121439Z
UID:13204-1755163800-1755210600@www.ortjet.org.za
SUMMARY:Business Bootcamp: Chat GPT for Business with Dan Stillerman
DESCRIPTION:Book Now
URL:https://www.ortjet.org.za/event/business-bootcamp-chat-gpt-for-business-with-dan-stillerman/
END:VEVENT
BEGIN:VEVENT
DTSTART;TZID=Africa/Johannesburg:20250813T093000
DTEND;TZID=Africa/Johannesburg:20250813T103000
DTSTAMP:20260424T150308
CREATED:20250716T102550Z
LAST-MODIFIED:20250716T102550Z
UID:13200-1755077400-1755081000@www.ortjet.org.za
SUMMARY:Business Bootcamp: Recruitment with Terri Maselle
DESCRIPTION:Book Now
URL:https://www.ortjet.org.za/event/business-bootcamp-recruitment-with-terri-maselle/
END:VEVENT
BEGIN:VEVENT
DTSTART;TZID=Africa/Johannesburg:20250812T093000
DTEND;TZID=Africa/Johannesburg:20250812T103000
DTSTAMP:20260424T150308
CREATED:20250716T102258Z
LAST-MODIFIED:20250807T074154Z
UID:13198-1754991000-1754994600@www.ortjet.org.za
SUMMARY:Business Bootcamp: Sales with Inna Orlianski
DESCRIPTION:Book Now
URL:https://www.ortjet.org.za/event/business-bootcamp-sales-with-inna-orlianski/
END:VEVENT
BEGIN:VEVENT
DTSTART;TZID=Africa/Johannesburg:20250806T090000
DTEND;TZID=Africa/Johannesburg:20250806T103000
DTSTAMP:20260424T150308
CREATED:20250716T102143Z
LAST-MODIFIED:20250716T102143Z
UID:13196-1754470800-1754476200@www.ortjet.org.za
SUMMARY:Business Upscaling with Paul Smith
DESCRIPTION:Book Now
URL:https://www.ortjet.org.za/event/business-upscaling-with-paul-smith/
END:VEVENT
BEGIN:VEVENT
DTSTART;TZID=Africa/Johannesburg:20250805T093000
DTEND;TZID=Africa/Johannesburg:20250805T103000
DTSTAMP:20260424T150308
CREATED:20250716T101705Z
LAST-MODIFIED:20250716T101705Z
UID:13194-1754386200-1754389800@www.ortjet.org.za
SUMMARY:Business Bootcamp: Brand Positioning Statement and Target Audience Definition with Mike Said
DESCRIPTION:Book Now
URL:https://www.ortjet.org.za/event/business-bootcamp-brand-positioning-statement-and-target-audience-definition-with-mike-said/
END:VEVENT
BEGIN:VEVENT
DTSTART;TZID=Africa/Johannesburg:20250708T090000
DTEND;TZID=Africa/Johannesburg:20250708T103000
DTSTAMP:20260424T150308
CREATED:20250618T094937Z
LAST-MODIFIED:20250618T094937Z
UID:13182-1751965200-1751970600@www.ortjet.org.za
SUMMARY:The Mindset Of A High Performing Entrepreneur
DESCRIPTION:Book Now
URL:https://www.ortjet.org.za/event/the-mindset-of-a-high-performing-entrepreneur/
END:VEVENT
BEGIN:VEVENT
DTSTART;TZID=Africa/Johannesburg:20250625T093000
DTEND;TZID=Africa/Johannesburg:20250625T103000
DTSTAMP:20260424T150308
CREATED:20250606T092340Z
LAST-MODIFIED:20250606T092450Z
UID:13158-1750843800-1750847400@www.ortjet.org.za
SUMMARY:Career Hub- Building Resilience in the Workplace with Karina De Bruin Part 2
DESCRIPTION:Book Now
URL:https://www.ortjet.org.za/event/career-hub-building-resilience-in-the-workplace-with-karina-de-bruin-part-1/
END:VEVENT
BEGIN:VEVENT
DTSTART;TZID=Africa/Johannesburg:20250618T093000
DTEND;TZID=Africa/Johannesburg:20250618T103000
DTSTAMP:20260424T150308
CREATED:20250606T092817Z
LAST-MODIFIED:20250606T092817Z
UID:13164-1750239000-1750242600@www.ortjet.org.za
SUMMARY:CareerHub- Building Resilience  in the Workplace with Karina De Bruin Part 1
DESCRIPTION:Book Now
URL:https://www.ortjet.org.za/event/careerhub-building-resilience-in-the-workplace-with-karina-de-bruin-part-1/
END:VEVENT
BEGIN:VEVENT
DTSTART;TZID=Africa/Johannesburg:20250611T093000
DTEND;TZID=Africa/Johannesburg:20250611T103000
DTSTAMP:20260424T150308
CREATED:20250528T054740Z
LAST-MODIFIED:20250528T054740Z
UID:13156-1749634200-1749637800@www.ortjet.org.za
SUMMARY:The entrepreneur's productivity code with Larry Hodes
DESCRIPTION:Book Now
URL:https://www.ortjet.org.za/event/the-entrepreneurs-productivity-code-with-larry-hodes/
END:VEVENT
BEGIN:VEVENT
DTSTART;TZID=Africa/Johannesburg:20250610T093000
DTEND;TZID=Africa/Johannesburg:20250610T103000
DTSTAMP:20260424T150308
CREATED:20250528T054517Z
LAST-MODIFIED:20250528T054517Z
UID:13154-1749547800-1749551400@www.ortjet.org.za
SUMMARY:Storytelling with Lynn Joffe
DESCRIPTION:Book Now
URL:https://www.ortjet.org.za/event/storytelling-with-lynn-joffe/
END:VEVENT
BEGIN:VEVENT
DTSTART;TZID=Africa/Johannesburg:20250605T093000
DTEND;TZID=Africa/Johannesburg:20250605T103000
DTSTAMP:20260424T150308
CREATED:20250526T113440Z
LAST-MODIFIED:20250526T113440Z
UID:13148-1749115800-1749119400@www.ortjet.org.za
SUMMARY:Personal Branding with Lori Milner
DESCRIPTION:Book Now
URL:https://www.ortjet.org.za/event/personal-branding-with-lori-milner-2/
CATEGORIES:Business Bootcamp
END:VEVENT
BEGIN:VEVENT
DTSTART;TZID=Africa/Johannesburg:20250528T093000
DTEND;TZID=Africa/Johannesburg:20250528T103000
DTSTAMP:20260424T150308
CREATED:20250416T084906Z
LAST-MODIFIED:20250416T084906Z
UID:13107-1748424600-1748428200@www.ortjet.org.za
SUMMARY:Leadership - ORT JET Bootcamp with Clive Butkow
DESCRIPTION:Book Now
URL:https://www.ortjet.org.za/event/leadership-ort-jet-bootcamp-with-clive-butkow/
END:VEVENT
BEGIN:VEVENT
DTSTART;TZID=Africa/Johannesburg:20250527T093000
DTEND;TZID=Africa/Johannesburg:20250527T103000
DTSTAMP:20260424T150308
CREATED:20250416T084617Z
LAST-MODIFIED:20250416T084617Z
UID:13105-1748338200-1748341800@www.ortjet.org.za
SUMMARY:Sales and Customer Service - ORT JET Bootcamp with Aki Kalliatakis
DESCRIPTION:Book Now
URL:https://www.ortjet.org.za/event/sales-and-customer-service-ort-jet-bootcamp-with-aki-kalliatakis/
END:VEVENT
BEGIN:VEVENT
DTSTART;TZID=Africa/Johannesburg:20250521T093000
DTEND;TZID=Africa/Johannesburg:20250521T093000
DTSTAMP:20260424T150308
CREATED:20250416T084457Z
LAST-MODIFIED:20250416T085011Z
UID:13103-1747819800-1747819800@www.ortjet.org.za
SUMMARY:E-Commerce Business - ORT JET Bootcamp with Errol Hurwitz
DESCRIPTION:Book Now
URL:https://www.ortjet.org.za/event/e-commerce-business-ort-jet-bootcamp-with-errol-hurwitz/
END:VEVENT
BEGIN:VEVENT
DTSTART;TZID=Africa/Johannesburg:20250520T093000
DTEND;TZID=Africa/Johannesburg:20250520T103000
DTSTAMP:20260424T150308
CREATED:20250415T131139Z
LAST-MODIFIED:20250416T084345Z
UID:13093-1747733400-1747737000@www.ortjet.org.za
SUMMARY:Financial Management - ORT JET Bootcamp with David Zidel
DESCRIPTION:Book Now
URL:https://www.ortjet.org.za/event/financial-management-ort-jet-bootcamp-with-david-zidel/
END:VEVENT
BEGIN:VEVENT
DTSTART;TZID=Africa/Johannesburg:20250514T093000
DTEND;TZID=Africa/Johannesburg:20250514T103000
DTSTAMP:20260424T150308
CREATED:20250415T130916Z
LAST-MODIFIED:20250416T084151Z
UID:13091-1747215000-1747218600@www.ortjet.org.za
SUMMARY:Modern Digital Marketing - ORT JET Bootcamp with Renato Dequcinis
DESCRIPTION:Book Now
URL:https://www.ortjet.org.za/event/modern-digital-marketing-ort-jet-bootcamp-with-renato-dequcinis/
END:VEVENT
BEGIN:VEVENT
DTSTART;TZID=Africa/Johannesburg:20250508T093000
DTEND;TZID=Africa/Johannesburg:20250508T103000
DTSTAMP:20260424T150308
CREATED:20250415T131748Z
LAST-MODIFIED:20250415T131748Z
UID:13096-1746696600-1746700200@www.ortjet.org.za
SUMMARY:AI In Business - ORT JET Bootcamp with Ariellah Rosenberg
DESCRIPTION:Book Now
URL:https://www.ortjet.org.za/event/ai-in-business-ort-jet-bootcamp-with-ariellah-rosenberg/
END:VEVENT
BEGIN:VEVENT
DTSTART;TZID=Africa/Johannesburg:20250507T093000
DTEND;TZID=Africa/Johannesburg:20250507T103000
DTSTAMP:20260424T150308
CREATED:20250415T130740Z
LAST-MODIFIED:20250415T132100Z
UID:13089-1746610200-1746613800@www.ortjet.org.za
SUMMARY:Business Plan Processing - ORT JET Bootcamp with Amanda Blankfield-Koseff
DESCRIPTION:Book Now
URL:https://www.ortjet.org.za/event/business-plan-processing-ort-jet-bootcamp-with-amanda-blankfield-koseff-2/
END:VEVENT
BEGIN:VEVENT
DTSTART;TZID=Africa/Johannesburg:20250506T120000
DTEND;TZID=Africa/Johannesburg:20250506T133000
DTSTAMP:20260424T150308
CREATED:20250423T094200Z
LAST-MODIFIED:20250423T094200Z
UID:13111-1746532800-1746538200@www.ortjet.org.za
SUMMARY:Effortless Conversation Starters with Nadia Bilchik
DESCRIPTION:Book Now
URL:https://www.ortjet.org.za/event/effortless-conversation-starters-with-nadia-bilchik/
END:VEVENT
BEGIN:VEVENT
DTSTART;TZID=Africa/Johannesburg:20250410T090000
DTEND;TZID=Africa/Johannesburg:20250410T100000
DTSTAMP:20260424T150308
CREATED:20250313T101717Z
LAST-MODIFIED:20250313T102101Z
UID:13064-1744275600-1744279200@www.ortjet.org.za
SUMMARY:Social Media Mangement Part 2
DESCRIPTION:Book Now
URL:https://www.ortjet.org.za/event/social-media-mangement-part-2/
END:VEVENT
BEGIN:VEVENT
DTSTART;TZID=Africa/Johannesburg:20250408T090000
DTEND;TZID=Africa/Johannesburg:20250408T100000
DTSTAMP:20260424T150308
CREATED:20250313T101609Z
LAST-MODIFIED:20250313T102141Z
UID:13062-1744102800-1744106400@www.ortjet.org.za
SUMMARY:Social Media Mangement Part 1
DESCRIPTION:Book Now
URL:https://www.ortjet.org.za/event/social-media-mangement-part-1/
END:VEVENT
BEGIN:VEVENT
DTSTART;TZID=Africa/Johannesburg:20250331T120000
DTEND;TZID=Africa/Johannesburg:20250331T133000
DTSTAMP:20260424T150308
CREATED:20250313T101355Z
LAST-MODIFIED:20250313T101948Z
UID:13060-1743422400-1743427800@www.ortjet.org.za
SUMMARY:How AI Won The Rugby World Cup For South Africa
DESCRIPTION:Book Now
URL:https://www.ortjet.org.za/event/how-ai-won-the-rugby-world-cup-for-south-africa/
END:VEVENT
BEGIN:VEVENT
DTSTART;TZID=Africa/Johannesburg:20250327T080000
DTEND;TZID=Africa/Johannesburg:20250327T180000
DTSTAMP:20260424T150308
CREATED:20250325T080023Z
LAST-MODIFIED:20250325T080023Z
UID:13078-1743062400-1743098400@www.ortjet.org.za
SUMMARY:Call - A - Thon
DESCRIPTION:Contact us
URL:https://www.ortjet.org.za/event/call-a-thon/
END:VEVENT
BEGIN:VEVENT
DTSTART;TZID=Africa/Johannesburg:20250326T080000
DTEND;TZID=Africa/Johannesburg:20250326T093000
DTSTAMP:20260424T150308
CREATED:20250318T114741Z
LAST-MODIFIED:20250318T114741Z
UID:13071-1742976000-1742981400@www.ortjet.org.za
SUMMARY:Nir Am Breakfast
DESCRIPTION:Book Now
URL:https://www.ortjet.org.za/event/nir-am-breakfast/
END:VEVENT
BEGIN:VEVENT
DTSTART;TZID=Africa/Johannesburg:20250325T090000
DTEND;TZID=Africa/Johannesburg:20250325T223000
DTSTAMP:20260424T150308
CREATED:20250313T101129Z
LAST-MODIFIED:20250313T101129Z
UID:13058-1742893200-1742941800@www.ortjet.org.za
SUMMARY:In The Boardroom with Sourcefin
DESCRIPTION:Book now
URL:https://www.ortjet.org.za/event/in-the-boardroom-with-sourcefin/
END:VEVENT
END:VCALENDAR