BEGIN:VCALENDAR
VERSION:2.0
PRODID:-//ORT Jet - ECPv6.15.20//NONSGML v1.0//EN
CALSCALE:GREGORIAN
METHOD:PUBLISH
X-ORIGINAL-URL:https://www.ortjet.org.za
X-WR-CALDESC:Events for ORT Jet
REFRESH-INTERVAL;VALUE=DURATION:PT1H
X-Robots-Tag:noindex
X-PUBLISHED-TTL:PT1H
BEGIN:VTIMEZONE
TZID:Africa/Johannesburg
BEGIN:STANDARD
TZOFFSETFROM:+0200
TZOFFSETTO:+0200
TZNAME:SAST
DTSTART:20230101T000000
END:STANDARD
END:VTIMEZONE
BEGIN:VEVENT
DTSTART;TZID=Africa/Johannesburg:20240829T130000
DTEND;TZID=Africa/Johannesburg:20240829T140000
DTSTAMP:20260424T224805
CREATED:20240711T103337Z
LAST-MODIFIED:20240816T071520Z
UID:12671-1724936400-1724940000@www.ortjet.org.za
SUMMARY:Cyber Security with Peter Botha
DESCRIPTION:
URL:https://www.ortjet.org.za/event/cyber-security-witg-peter-botha/
LOCATION:Webinar
CATEGORIES:Business Bootcamp
END:VEVENT
BEGIN:VEVENT
DTSTART;TZID=Africa/Johannesburg:20240828T090000
DTEND;TZID=Africa/Johannesburg:20240828T100000
DTSTAMP:20260424T224805
CREATED:20240826T114344Z
LAST-MODIFIED:20240826T114344Z
UID:12778-1724835600-1724839200@www.ortjet.org.za
SUMMARY:Personal Branding with Lori Milner
DESCRIPTION:𝐓𝐡𝐞 𝐀𝐫𝐭 𝐨𝐟 𝐏𝐞𝐫𝐬𝐨𝐧𝐚𝐥 𝐁𝐫𝐚𝐧𝐝𝐢𝐧𝐠 𝐰𝐢𝐭𝐡 𝐋𝐨𝐫𝐢 𝐌𝐢𝐥𝐧𝐞𝐫\nEnhance your professional image and gain clarity on your goals. Join us for a Personal Branding workshop with Lori Milner\, an experienced life coach and self-leadership expert with extensive experience in guiding individuals and organizations to achieve their full potential.\nUnlock your full potential through personal branding.
URL:https://www.ortjet.org.za/event/personal-branding-with-lori-milner/
LOCATION:Webinar
CATEGORIES:Business Bootcamp
END:VEVENT
BEGIN:VEVENT
DTSTART;TZID=Africa/Johannesburg:20240827T130000
DTEND;TZID=Africa/Johannesburg:20240827T140000
DTSTAMP:20260424T224805
CREATED:20240711T102537Z
LAST-MODIFIED:20240801T103149Z
UID:12667-1724763600-1724767200@www.ortjet.org.za
SUMMARY:Legal and Compliance with Ian Jacobsberg
DESCRIPTION:In the fast-paced world of business\, staying on top of legal and compliance requirements is crucial for success. Whether you’re starting a new venture or scaling your small business to the next level\, ensuring that all legal compliance requirements and loopholes are thoroughly addressed is essential. \nThis bootcamp will tackle key issues you need to consider\, including understanding the pros and cons of different business structures to make informed decisions\, learning how to safeguard your brand and intellectual property\, discovering the must-have agreements that protect your business interests\, and gaining insights into the legalities of hiring and managing employees. \nDon’t miss this opportunity to secure your business’s future and stay compliant in a rapidly changing market. You’ll receive expert guidance on legal and compliance issues\, practical insights to safeguard your business\, and strategies to avoid costly legal pitfalls. \nEnroll today and take the first step towards a legally sound and successful business. \nDate: 27th August\, 2024 \nTime: 1:00 PM – 2:00 PM \nEvent Type: Online Webinar \nLink to register: https://us02web.zoom.us/j/87199638641 \n 
URL:https://www.ortjet.org.za/event/legal-and-compliance-with-ian-jacobsberg/
LOCATION:Webinar
CATEGORIES:Business Bootcamp
END:VEVENT
BEGIN:VEVENT
DTSTART;TZID=Africa/Johannesburg:20240820T130000
DTEND;TZID=Africa/Johannesburg:20240820T140000
DTSTAMP:20260424T224805
CREATED:20240711T101856Z
LAST-MODIFIED:20240801T102630Z
UID:12665-1724158800-1724162400@www.ortjet.org.za
SUMMARY:Using TakeAlot As Your Sales Platform with Errol Hurwitz
DESCRIPTION:The E-Commerce industry is fast growing in today’s world and South Africa is not left behind in this trend.So the question is: Can anyone sell online? The answer is\, “Yes”. Now the time is easier than ever. Tet educated about how you can succeed and became the “A New Breed Of Entrepreneur” \nTakealot\, South Africa’s largest e-commerce platform\, draws 10 million visitors each month. In 2021\, it generated R13 billion in revenue\, with third-party marketplace sales making up 52% of total GMV. Unlike traditional retailers\, Takealot’s marketplace allows any approved seller to list products\, opening a vast opportunity for sellers. \nIn 2019\, 36% of Takealot’s R5 billion revenue was from marketplace sellers. By 2021\, this had surged to represent 52% of all sales\, equating to a R6-7 billion market for marketplace sellers. Don’t miss out on leveraging this platform to reach millions of potential customers. \nDate: 20th August\, 2024 \nTime: 1:00 PM – 2:00 PM \nEvent Type: Online Webinar \nLink to register: https://us02web.zoom.us/j/89636011900 \n 
URL:https://www.ortjet.org.za/event/e-commerce-with-michael-harf/
LOCATION:Webinar
CATEGORIES:Business Bootcamp
END:VEVENT
BEGIN:VEVENT
DTSTART;TZID=Africa/Johannesburg:20240819T120000
DTEND;TZID=Africa/Johannesburg:20240819T130000
DTSTAMP:20260424T224805
CREATED:20240711T101038Z
LAST-MODIFIED:20240801T101919Z
UID:12663-1724068800-1724072400@www.ortjet.org.za
SUMMARY:Finance with David Zidel
DESCRIPTION:David Zidel is an accomplished motivational speaker with extensive experience in the education management industry. With skills in finance\, entrepreneurship\, business coaching\, and behavioural economics\, David leverages his MBA in finance to empower professionals and businesses. He is a respected author of two influential books: “Basic Business Calculations\,” which has sold over 21\,000 copies in South Africa\, and “Life On The Run – 18 Steps to Success\,” drawing from his experiences running two Comrades Marathons. David is a mentor and facilitator for ORT Jet\, renowned for his practical and insightful approach to business acumen and financial decision-making. \nIn the workshop\, you will learn to overcome your fear of numbers\, master key financial statements\, make informed decisions and improve business acumen. David approach is straightforward and effective. You will achieve results through practical application and learn to focus on Business not Busyness. Lear to avoid impulsive choices and plan for long-term profitability. \nDate: 19th August\, 2024 \nTime: 12:00 PM – 1:00 PM \nEvent Type: In-Person Workshop \nEmail admin@ortjet.org.za to book
URL:https://www.ortjet.org.za/event/finance-with-david-zidel/
LOCATION:In-Person
CATEGORIES:Business Bootcamp
END:VEVENT
BEGIN:VEVENT
DTSTART;TZID=Africa/Johannesburg:20240815T130000
DTEND;TZID=Africa/Johannesburg:20240815T140000
DTSTAMP:20260424T224805
CREATED:20240711T095110Z
LAST-MODIFIED:20240801T101313Z
UID:12658-1723726800-1723730400@www.ortjet.org.za
SUMMARY:Customer Services with Aki Kalliatakis
DESCRIPTION:Learn To Stand Out and Win Loyal Customers \nAre you struggling to attract and retain loyal customers in today’s competitive market? Overwhelmed by advertising noise and customer indifference? All this can make trying to figure out how to excite and thrill your customers and make them loyal a nightmare! \nThere’s a solution! \nJoin our webinar\, “Delight Your Customers” and learn how to captivate your audience and keep them coming back\, even if your prices are higher. No more begging for business or worrying about turnover. This webinar will provide you with strategies to stand out from the crowd and build a loyal customer base. \nDate: 15th August\, 2024 \nTime: 1:00 PM – 2:00 PM \nEvent Type: Online Webinar \nLink to register: https://us02web.zoom.us/j/89480098331 \nAs your rivals struggle to survive\, you can be the oasis in the desert of customer despair because you surprise and delight them!
URL:https://www.ortjet.org.za/event/customer-services-with-aki-kalliatakis/
LOCATION:Webinar
CATEGORIES:Business Bootcamp
END:VEVENT
BEGIN:VEVENT
DTSTART;TZID=Africa/Johannesburg:20240814T090000
DTEND;TZID=Africa/Johannesburg:20240814T100000
DTSTAMP:20260424T224805
CREATED:20240711T093111Z
LAST-MODIFIED:20240801T100552Z
UID:12656-1723626000-1723629600@www.ortjet.org.za
SUMMARY:Recruitment with Terri Maselle
DESCRIPTION:𝐑𝐞𝐯𝐨𝐥𝐮𝐭𝐢𝐨𝐧𝐢𝐳𝐞 𝐲𝐨𝐮𝐫 𝐫𝐞𝐜𝐫𝐮𝐢𝐭𝐦𝐞𝐧𝐭 𝐬𝐭𝐫𝐚𝐭𝐞𝐠𝐲 𝐰𝐢𝐭𝐡 𝐓𝐞𝐫𝐫𝐢 𝐌𝐚𝐬𝐞𝐥𝐥𝐞! \nTerri Tanna Maselle\, Chief Connector and Founder of The Good Human\, https://zurl.co/hwuO\, is set to share her unparalleled expertise during the Recruitment Bootcamp Workshop. She will reveal how small businesses can establish and manage a Talent Acquisition and Recruitment desk that operates with the efficiency and effectiveness of a full-fledged recruitment agency. Attendees will benefit from her comprehensive A-Z guide on successfully sourcing and hiring top industry talent in today’s digital landscape. \nDate: 14th August\, 2024\nTime: 9:00 AM – 10:00 AM\nEvent Type: Live Workshop\nTo make a booking: email admin@ortjet.org.za \nDon’t miss this opportunity to learn from a leader in the field and revolutionize your recruitment strategy.
URL:https://www.ortjet.org.za/event/recruitment-with-terri-maselle/
LOCATION:In-Person
CATEGORIES:Business Bootcamp
END:VEVENT
BEGIN:VEVENT
DTSTART;TZID=Africa/Johannesburg:20240807T130000
DTEND;TZID=Africa/Johannesburg:20240807T140000
DTSTAMP:20260424T224805
CREATED:20240711T090645Z
LAST-MODIFIED:20240801T100022Z
UID:12654-1723035600-1723039200@www.ortjet.org.za
SUMMARY:Sales with David Marshall
DESCRIPTION:Learn How to Close Deals and Increase Your Sales with David Marshall!With the growth of AI and Chatbots\, it’s important not to forget the human element of Sales. In this Business Bootcamp module\, David Marshall will cover how to sell more online\, using new technology and old-fashioned sales methodology.He aims to help you secure new business while retaining and growing your existing business.Date: 7th August\, 2024Time: 1:00 PM – 2:00 PMEvent Type: WebinarLink to register: https://zurl.co/GPAcJoin us and propel your sales success in 2024! \n 
URL:https://www.ortjet.org.za/event/sales-with-david-marshall/
LOCATION:Webinar
CATEGORIES:Business Bootcamp
END:VEVENT
BEGIN:VEVENT
DTSTART;TZID=Africa/Johannesburg:20240806T130000
DTEND;TZID=Africa/Johannesburg:20240806T140000
DTSTAMP:20260424T224805
CREATED:20240711T085814Z
LAST-MODIFIED:20240801T095800Z
UID:12652-1722949200-1722952800@www.ortjet.org.za
SUMMARY:Digital Marketing with Renato Dequcinis
DESCRIPTION:𝐌𝐚𝐬𝐭𝐞𝐫 𝐌𝐨𝐝𝐞𝐫𝐧 𝐌𝐚𝐫𝐤𝐞𝐭𝐢𝐧𝐠 𝐰𝐢𝐭𝐡 𝐑𝐞𝐧𝐚𝐭𝐨 𝐃𝐞𝐪𝐮𝐜𝐢𝐧𝐢𝐬!As part of the ORT Jet Business Bootcamps\, we are bringing you a Digital Marketing webinar with Renato Dequcinis from Barril Group.Learn how to strengthen your brand and elevate your marketing strategy through practical and actionable steps.Renato will teach you how to discover the latest trends and use technologies that will allow you to master modern marketing.Date: August 6th\, 2024Time: 1:00 PM – 2:00 PMEvent Type: WebinarLink to register: https://zurl.co/eXqnJoin us and achieve digital dominance!
URL:https://www.ortjet.org.za/event/digital-marketing-with-renato-dequcinis/
LOCATION:Webinar
CATEGORIES:Business Bootcamp
END:VEVENT
BEGIN:VEVENT
DTSTART;TZID=Africa/Johannesburg:20240411T173000
DTEND;TZID=Africa/Johannesburg:20240411T183000
DTSTAMP:20260424T224805
CREATED:20240226T183111Z
LAST-MODIFIED:20240226T183111Z
UID:12350-1712856600-1712860200@www.ortjet.org.za
SUMMARY:Business Bootcamp: Minds Matter with Niki Seberini
DESCRIPTION:
URL:https://www.ortjet.org.za/event/business-bootcamp-minds-matter-with-niki-seberini/
LOCATION:In-Person
CATEGORIES:Business Bootcamp
END:VEVENT
BEGIN:VEVENT
DTSTART;TZID=Africa/Johannesburg:20240409T173000
DTEND;TZID=Africa/Johannesburg:20240409T183000
DTSTAMP:20260424T224805
CREATED:20240226T182309Z
LAST-MODIFIED:20240226T182309Z
UID:12348-1712683800-1712687400@www.ortjet.org.za
SUMMARY:Business Bootcamp: Strategy That Works with Ian Mann
DESCRIPTION:Ian Mann’s “Strategy that Works” offers a fresh perspective on strategy\, debunking popular theories and presenting a coherent approach. This workshop\, led by Mann\, specifically targets small businesses navigating the challenges of the pandemic. Participants will refine or develop strategies focusing on key aspects like defining their business’s purpose\, prioritizing tasks\, maximizing employee potential\, and accessing investment opportunities. Gain practical insights from one of South Africa’s top business consultants to propel your small business forward in uncertain times.
URL:https://www.ortjet.org.za/event/business-bootcamp-strategy-that-works-with-ian-mann/
LOCATION:In-Person
CATEGORIES:Business Bootcamp
END:VEVENT
BEGIN:VEVENT
DTSTART;TZID=Africa/Johannesburg:20240402T083000
DTEND;TZID=Africa/Johannesburg:20240402T093000
DTSTAMP:20260424T224805
CREATED:20240226T181517Z
LAST-MODIFIED:20240325T102819Z
UID:12344-1712046600-1712050200@www.ortjet.org.za
SUMMARY:Business Bootcamp: Personal Brand Power with Lori Milner
DESCRIPTION:Mastering First Impressions \nThe Crucial first 8 Seconds of Personal Branding \nIn today’s fast-paced world\, where first impressions are formed within seconds\, personal branding has become more critical than ever. When you walk into a room\, whether it’s for a job interview\, a networking event\, or a social gathering\, people are quick to judge you based on various visual and behavioural cues. Here’s how you can effectively manage your personal brand to make a positive impact in those crucial initial moments. \nThis workshop on personal branding empowers participants to strategically shape their reputation for career and life success. It covers aspects such as physical\, interpersonal\, intrapersonal\, and virtual presence\, along with social skills and networking. Techniques include strategic branding\, embodying company values\, building confidence\, handling conflict\, and honing communication skills. Perfect for individuals seeking to proactively define and enhance their professional brand.
URL:https://www.ortjet.org.za/event/business-bootcamp-personal-brand-power-with-lori-milner/
LOCATION:Webinar
CATEGORIES:Business Bootcamp
END:VEVENT
BEGIN:VEVENT
DTSTART;TZID=Africa/Johannesburg:20240313T083000
DTEND;TZID=Africa/Johannesburg:20240313T093000
DTSTAMP:20260424T224805
CREATED:20240226T180858Z
LAST-MODIFIED:20240226T180858Z
UID:12342-1710318600-1710322200@www.ortjet.org.za
SUMMARY:Business Bootcamp: Basic Business Essentials with Aki Kalliatakis
DESCRIPTION:
URL:https://www.ortjet.org.za/event/business-bootcamp-basic-business-essentials-with-aki-kalliatakis/
LOCATION:Webinar
CATEGORIES:Business Bootcamp
END:VEVENT
BEGIN:VEVENT
DTSTART;TZID=Africa/Johannesburg:20240307T153000
DTEND;TZID=Africa/Johannesburg:20240307T163000
DTSTAMP:20260424T224805
CREATED:20240226T180243Z
LAST-MODIFIED:20240226T180243Z
UID:12338-1709825400-1709829000@www.ortjet.org.za
SUMMARY:Business Bootcamp: Business Blueprint with Amanda_Blankfield-Koseff
DESCRIPTION:This workshop\, led by Amanda Blankfield-Koseff\, offers practical guidance on crafting effective business plans. Participants learn how to assemble and lead a team\, conduct SWOT analyses and mind mapping exercises\, identify target audiences\, and generate innovative solutions. The session covers action planning\, fundraising\, budgeting\, team management\, evidence demonstration\, and communication strategies. Amanda’s extensive experience in marketing and youth development enriches the session\, providing insights into personal and team development analysis.
URL:https://www.ortjet.org.za/event/business-bootcamp-business-blueprint-with-amanda_blankfield-koseff/
LOCATION:Webinar
CATEGORIES:Business Bootcamp
END:VEVENT
BEGIN:VEVENT
DTSTART;TZID=Africa/Johannesburg:20240305T083000
DTEND;TZID=Africa/Johannesburg:20240305T093000
DTSTAMP:20260424T224805
CREATED:20240226T175100Z
LAST-MODIFIED:20240227T110054Z
UID:12336-1709627400-1709631000@www.ortjet.org.za
SUMMARY:Business Bootcamp: Sales Accelerator with David Marshall
DESCRIPTION:In the Sales Accelerator Bootcamp led by David Marshal\, the importance of pinpointing the true target market for prosperous sales was emphasized. David introduced the concept of the reverse sales test\, encapsulated by the acronym “TEST” (Target\, Exchange\, Service\, Trust)\, which helps in identifying potential concerns that could deter prospects. \nFurthermore\, impactful sales scripts and the significance of live chat support were highlighted. Live chat has emerged as a favored avenue for real-time assistance in the customer-centric era. It enhances customer experience by facilitating swift connections and problem resolution\, leading to increased engagement and conversions. The personalized dimension of live chat nurtures robust customer relationships\, providing a competitive edge while also offering a cost-effective solution for businesses.
URL:https://www.ortjet.org.za/event/business-bootcamp-sales-accelerator-with-david-marshall/
LOCATION:Webinar
CATEGORIES:Business Bootcamp
END:VEVENT
END:VCALENDAR