BEGIN:VCALENDAR
VERSION:2.0
PRODID:-//ORT Jet - ECPv6.15.20//NONSGML v1.0//EN
CALSCALE:GREGORIAN
METHOD:PUBLISH
X-WR-CALNAME:ORT Jet
X-ORIGINAL-URL:https://www.ortjet.org.za
X-WR-CALDESC:Events for ORT Jet
REFRESH-INTERVAL;VALUE=DURATION:PT1H
X-Robots-Tag:noindex
X-PUBLISHED-TTL:PT1H
BEGIN:VTIMEZONE
TZID:Africa/Johannesburg
BEGIN:STANDARD
TZOFFSETFROM:+0200
TZOFFSETTO:+0200
TZNAME:SAST
DTSTART:20250101T000000
END:STANDARD
END:VTIMEZONE
BEGIN:VEVENT
DTSTART;TZID=Africa/Johannesburg:20260414T093000
DTEND;TZID=Africa/Johannesburg:20260414T223000
DTSTAMP:20260422T160319
CREATED:20260326T074501Z
LAST-MODIFIED:20260326T074501Z
UID:13475-1776159000-1776205800@www.ortjet.org.za
SUMMARY:Business Bootcamp: Leadership With Clive Butkow
DESCRIPTION:Book Here
URL:https://www.ortjet.org.za/event/business-bootcamp-leadership-with-clive-butkow-2/
END:VEVENT
END:VCALENDAR