BEGIN:VCALENDAR
VERSION:2.0
PRODID:-//ORT Jet - ECPv6.15.20//NONSGML v1.0//EN
CALSCALE:GREGORIAN
METHOD:PUBLISH
X-ORIGINAL-URL:https://www.ortjet.org.za
X-WR-CALDESC:Events for ORT Jet
REFRESH-INTERVAL;VALUE=DURATION:PT1H
X-Robots-Tag:noindex
X-PUBLISHED-TTL:PT1H
BEGIN:VTIMEZONE
TZID:Africa/Johannesburg
BEGIN:STANDARD
TZOFFSETFROM:+0200
TZOFFSETTO:+0200
TZNAME:SAST
DTSTART:20250101T000000
END:STANDARD
END:VTIMEZONE
BEGIN:VEVENT
DTSTART;TZID=Africa/Johannesburg:20260319T093000
DTEND;TZID=Africa/Johannesburg:20260319T103000
DTSTAMP:20260424T101756
CREATED:20260211T115905Z
LAST-MODIFIED:20260211T115905Z
UID:13380-1773912600-1773916200@www.ortjet.org.za
SUMMARY:Business Bootcamp - Time Management With Lori Milner
DESCRIPTION:Book Here
URL:https://www.ortjet.org.za/event/business-bootcamp-time-management-with-lori-milner-2/
END:VEVENT
END:VCALENDAR